BEGIN:VCALENDAR
VERSION:2.0
PRODID:SchoolNow
CALSCALE:GREGORIAN
BEGIN:VEVENT
UID:0283c76e-9a26-11f0-a87e-0afff9979011
DTSTAMP:20251216T214513Z
SUMMARY:Service Club Meeting
LOCATION:Room 24
URL;VALUE=URI:https://www.dist126.org/hazelgreen/about/calendar/8663121/ser
 vice-club-meeting
DTSTART:20250925T163500Z
DTEND:20250925T173500Z
END:VEVENT
END:VCALENDAR
