BEGIN:VCALENDAR
VERSION:2.0
PRODID:SchoolNow
CALSCALE:GREGORIAN
BEGIN:VEVENT
UID:f28893ec-998c-11f0-9dd1-0a58a9feac02
DTSTAMP:20251216T214514Z
SUMMARY:4th Grade Intramurals
URL;VALUE=URI:https://www.dist126.org/hazelgreen/about/calendar/8660610/4th
 -grade-intramurals
DTSTART:20251027T195000Z
DTEND:20251027T205000Z
ATTACH;FILENAME=Intramurals;FMTTYPE=application/octet-stream:https://drive.
 google.com/open?id=1asoXywSBYAwwW1Ygyz1PFNRFLy7bxm9fYO4SarOaBis
END:VEVENT
END:VCALENDAR
