BEGIN:VCALENDAR
VERSION:2.0
PRODID:SchoolNow
CALSCALE:GREGORIAN
BEGIN:VEVENT
UID:f2888cee-998c-11f0-93c1-0a58a9feac02
DTSTAMP:20251216T214513Z
SUMMARY:4th Grade Intramurals
URL;VALUE=URI:https://www.dist126.org/hazelgreen/about/calendar/8660606/4th
 -grade-intramurals
DTSTART:20250929T195000Z
DTEND:20250929T205000Z
ATTACH;FILENAME=Intramurals;FMTTYPE=application/octet-stream:https://drive.
 google.com/open?id=1asoXywSBYAwwW1Ygyz1PFNRFLy7bxm9fYO4SarOaBis
END:VEVENT
END:VCALENDAR
