BEGIN:VCALENDAR
VERSION:2.0
PRODID:SchoolNow
CALSCALE:GREGORIAN
BEGIN:VEVENT
UID:f4fd1e96-9959-11f0-9097-0a58a9feac02
DTSTAMP:20251216T214513Z
SUMMARY:MPR: Kestian-Lanenga Buddy Activity
LOCATION:Multipurpose Room
URL;VALUE=URI:https://www.dist126.org/hazelgreen/about/calendar/8659532/mpr
 -kestian-lanenga-buddy-activity
DTSTART:20250924T151500Z
DTEND:20250924T160000Z
END:VEVENT
END:VCALENDAR
