BEGIN:VCALENDAR
VERSION:2.0
PRODID:SchoolNow
CALSCALE:GREGORIAN
BEGIN:VEVENT
UID:fca70182-98c0-11f0-a29d-0a58a9feac02
DTSTAMP:20251216T214513Z
SUMMARY:Hispanic Heritage Month School Wide Celebration
URL;VALUE=URI:https://www.dist126.org/hazelgreen/about/calendar/8656988/his
 panic-heritage-month-school-wide-celebration
DTSTART:20251010T133000Z
DTEND:20251010T194500Z
END:VEVENT
END:VCALENDAR
