BEGIN:VCALENDAR
VERSION:2.0
PRODID:SchoolNow
CALSCALE:GREGORIAN
BEGIN:VEVENT
UID:fca6e21a-98c0-11f0-905b-0a58a9feac02
DTSTAMP:20251216T214513Z
SUMMARY:6th Grade Choices and Consequences
LOCATION:Rooms 23 and 24
URL;VALUE=URI:https://www.dist126.org/hazelgreen/about/calendar/8656987/6th
 -grade-choices-and-consequences
DTSTART:20251029T181500Z
DTEND:20251029T191500Z
END:VEVENT
END:VCALENDAR
