BEGIN:VCALENDAR
VERSION:2.0
PRODID:SchoolNow
CALSCALE:GREGORIAN
BEGIN:VEVENT
UID:e0a4a636-94f8-11f0-9d97-0a58a9feac02
DTSTAMP:20251216T214513Z
SUMMARY:Potluck Lunch
URL;VALUE=URI:https://www.dist126.org/hazelgreen/about/calendar/8639491/pot
 luck-lunch
DTSTART:20250929T160000Z
DTEND:20250929T173000Z
ATTACH;FILENAME=Notes - Potluck Lunch;FMTTYPE=application/octet-stream:http
 s://docs.google.com/document/d/1Ow10o_6xGOYr8h4CzYNNJAr8BaQLsu8pCWf54g_a3x
 s/edit
END:VEVENT
END:VCALENDAR
