BEGIN:VCALENDAR
VERSION:2.0
PRODID:SchoolNow
CALSCALE:GREGORIAN
BEGIN:VEVENT
UID:ed45c564-93f9-11f0-82e7-0a58a9feac02
DTSTAMP:20251216T214513Z
SUMMARY:Bernie's Book Bank Lunch in classrooms
URL;VALUE=URI:https://www.dist126.org/hazelgreen/about/calendar/8633209/ber
 nies-book-bank-lunch-in-classrooms
DTSTART;VALUE=DATE:20250926
DTEND;VALUE=DATE:20250927
END:VEVENT
END:VCALENDAR
