BEGIN:VCALENDAR
VERSION:2.0
PRODID:SchoolNow
CALSCALE:GREGORIAN
BEGIN:VEVENT
UID:f5fdeb44-9360-11f0-9cce-02a530cc43c9
DTSTAMP:20251216T214514Z
SUMMARY:Soccer Club - 3rd Grade - After school
URL;VALUE=URI:https://www.dist126.org/hazelgreen/about/calendar/8630473/soc
 cer-club-3rd-grade-after-school
DTSTART:20250923T200000Z
DTEND:20250923T210000Z
ATTACH;FILENAME=Soccer Club Attendance 2025;FMTTYPE=application/octet-strea
 m:https://drive.google.com/open?id=1GKSajIuQTniwzuek8AvbllqTOazg_O6P1k1aFe
 uLr9k
END:VEVENT
END:VCALENDAR
