BEGIN:VCALENDAR
VERSION:2.0
PRODID:SchoolNow
CALSCALE:GREGORIAN
BEGIN:VEVENT
UID:f5fde95a-9360-11f0-8336-02a530cc43c9
DTSTAMP:20251216T214513Z
SUMMARY:LAST Soccer Club - 4th Grade After school
URL;VALUE=URI:https://www.dist126.org/hazelgreen/about/calendar/8630471/las
 t-soccer-club-4th-grade-after-school
DTSTART:20251008T200000Z
DTEND:20251008T210000Z
ATTACH;FILENAME=Soccer Club Attendance 2025;FMTTYPE=application/octet-strea
 m:https://drive.google.com/open?id=1GKSajIuQTniwzuek8AvbllqTOazg_O6P1k1aFe
 uLr9k
END:VEVENT
END:VCALENDAR
