BEGIN:VCALENDAR
VERSION:2.0
PRODID:SchoolNow
CALSCALE:GREGORIAN
BEGIN:VEVENT
UID:f5fde84c-9360-11f0-8793-02a530cc43c9
DTSTAMP:20251216T214513Z
SUMMARY:Soccer Club - 4th Grade After school
URL;VALUE=URI:https://www.dist126.org/hazelgreen/about/calendar/8630470/soc
 cer-club-4th-grade-after-school
DTSTART:20251002T200000Z
DTEND:20251002T210000Z
ATTACH;FILENAME=Soccer Club Attendance 2025;FMTTYPE=application/octet-strea
 m:https://drive.google.com/open?id=1GKSajIuQTniwzuek8AvbllqTOazg_O6P1k1aFe
 uLr9k
END:VEVENT
END:VCALENDAR
