BEGIN:VCALENDAR
VERSION:2.0
PRODID:SchoolNow
CALSCALE:GREGORIAN
BEGIN:VEVENT
UID:f5fde108-9360-11f0-aebf-02a530cc43c9
DTSTAMP:20251216T214513Z
SUMMARY:Parent Square Continued Support (Report Card Scheduling)
URL;VALUE=URI:https://www.dist126.org/hazelgreen/about/calendar/8630467/par
 ent-square-continued-support-report-card-scheduling
DTSTART:20251029T123000Z
DTEND:20251029T131500Z
END:VEVENT
END:VCALENDAR
