BEGIN:VCALENDAR
VERSION:2.0
PRODID:SchoolNow
CALSCALE:GREGORIAN
BEGIN:VEVENT
UID:ffabdc9a-9294-11f0-973c-027c854efbf3
DTSTAMP:20251216T214513Z
SUMMARY:Father's Day
URL;VALUE=URI:https://www.dist126.org/hazelgreen/about/calendar/8626397/fat
 hers-day
DTSTART;VALUE=DATE:20260621
DTEND;VALUE=DATE:20260622
END:VEVENT
END:VCALENDAR
