BEGIN:VCALENDAR
VERSION:2.0
PRODID:SchoolNow
CALSCALE:GREGORIAN
BEGIN:VEVENT
UID:ffabdba0-9294-11f0-b480-027c854efbf3
DTSTAMP:20251216T214513Z
SUMMARY:Juneteenth
URL;VALUE=URI:https://www.dist126.org/hazelgreen/about/calendar/8626396/jun
 eteenth
DTSTART;VALUE=DATE:20260619
DTEND;VALUE=DATE:20260620
END:VEVENT
END:VCALENDAR
