BEGIN:VCALENDAR
VERSION:2.0
PRODID:SchoolNow
CALSCALE:GREGORIAN
BEGIN:VEVENT
UID:ffabda56-9294-11f0-85cc-027c854efbf3
DTSTAMP:20251216T214513Z
SUMMARY:Last Day of School/Luau
URL;VALUE=URI:https://www.dist126.org/hazelgreen/about/calendar/8626395/las
 t-day-of-school-luau
DTSTART;VALUE=DATE:20260603
DTEND;VALUE=DATE:20260604
END:VEVENT
END:VCALENDAR
