BEGIN:VCALENDAR
VERSION:2.0
PRODID:SchoolNow
CALSCALE:GREGORIAN
BEGIN:VEVENT
UID:ffabd95c-9294-11f0-8960-027c854efbf3
DTSTAMP:20251216T214513Z
SUMMARY:6th Grade Awards Assembly/End of 3rd Trimester
URL;VALUE=URI:https://www.dist126.org/hazelgreen/about/calendar/8626394/6th
 -grade-awards-assembly-end-of-3rd-trimester
DTSTART;VALUE=DATE:20260602
DTEND;VALUE=DATE:20260603
END:VEVENT
END:VCALENDAR
