BEGIN:VCALENDAR
VERSION:2.0
PRODID:SchoolNow
CALSCALE:GREGORIAN
BEGIN:VEVENT
UID:ffabd84e-9294-11f0-af2d-027c854efbf3
DTSTAMP:20251216T214513Z
SUMMARY:Field Day/KG End of the Year Celebration
URL;VALUE=URI:https://www.dist126.org/hazelgreen/about/calendar/8626393/fie
 ld-day-kg-end-of-the-year-celebration
DTSTART:20260528T140000Z
DTEND:20260528T150000Z
END:VEVENT
END:VCALENDAR
