BEGIN:VCALENDAR
VERSION:2.0
PRODID:SchoolNow
CALSCALE:GREGORIAN
BEGIN:VEVENT
UID:ffabd72c-9294-11f0-a3b7-027c854efbf3
DTSTAMP:20251216T214513Z
SUMMARY:No School Eid al-Adha
URL;VALUE=URI:https://www.dist126.org/hazelgreen/about/calendar/8626392/no-
 school-eid-al-adha
DTSTART;VALUE=DATE:20260527
DTEND;VALUE=DATE:20260528
END:VEVENT
END:VCALENDAR
