BEGIN:VCALENDAR
VERSION:2.0
PRODID:SchoolNow
CALSCALE:GREGORIAN
BEGIN:VEVENT
UID:ffabd5b0-9294-11f0-a01a-027c854efbf3
DTSTAMP:20251216T214513Z
SUMMARY:No School Memorial Day
URL;VALUE=URI:https://www.dist126.org/hazelgreen/about/calendar/8626391/no-
 school-memorial-day
DTSTART;VALUE=DATE:20260525
DTEND;VALUE=DATE:20260526
END:VEVENT
END:VCALENDAR
