BEGIN:VCALENDAR
VERSION:2.0
PRODID:SchoolNow
CALSCALE:GREGORIAN
BEGIN:VEVENT
UID:ffabd43e-9294-11f0-8b1f-027c854efbf3
DTSTAMP:20251216T214513Z
SUMMARY:No School Teacher Institute Day
URL;VALUE=URI:https://www.dist126.org/hazelgreen/about/calendar/8626390/no-
 school-teacher-institute-day
DTSTART;VALUE=DATE:20260522
DTEND;VALUE=DATE:20260523
END:VEVENT
END:VCALENDAR
