BEGIN:VCALENDAR
VERSION:2.0
PRODID:SchoolNow
CALSCALE:GREGORIAN
BEGIN:VEVENT
UID:ffabcf7a-9294-11f0-a5dc-027c854efbf3
DTSTAMP:20251216T214513Z
SUMMARY:VISA Trip
URL;VALUE=URI:https://www.dist126.org/hazelgreen/about/calendar/8626389/vis
 a-trip
DTSTART;VALUE=DATE:20260521
DTEND;VALUE=DATE:20260522
END:VEVENT
END:VCALENDAR
