BEGIN:VCALENDAR
VERSION:2.0
PRODID:SchoolNow
CALSCALE:GREGORIAN
BEGIN:VEVENT
UID:ff6f7142-9294-11f0-bdef-027c854efbf3
DTSTAMP:20251216T214513Z
SUMMARY:6th Grade Field Trip
URL;VALUE=URI:https://www.dist126.org/hazelgreen/about/calendar/8626388/6th
 -grade-field-trip
DTSTART;VALUE=DATE:20260514
DTEND;VALUE=DATE:20260515
END:VEVENT
END:VCALENDAR
