BEGIN:VCALENDAR
VERSION:2.0
PRODID:SchoolNow
CALSCALE:GREGORIAN
BEGIN:VEVENT
UID:ff6f7066-9294-11f0-a347-027c854efbf3
DTSTAMP:20251216T214513Z
SUMMARY:Fine Arts Extravaganza @ PJH
URL;VALUE=URI:https://www.dist126.org/hazelgreen/about/calendar/8626387/fin
 e-arts-extravaganza-pjh
DTSTART:20260513T220000Z
DTEND:20260514T000000Z
END:VEVENT
END:VCALENDAR
