BEGIN:VCALENDAR
VERSION:2.0
PRODID:SchoolNow
CALSCALE:GREGORIAN
BEGIN:VEVENT
UID:ff6f6f8a-9294-11f0-8504-027c854efbf3
DTSTAMP:20251216T214513Z
SUMMARY:Mother's Day
URL;VALUE=URI:https://www.dist126.org/hazelgreen/about/calendar/8626386/mot
 hers-day
DTSTART;VALUE=DATE:20260510
DTEND;VALUE=DATE:20260511
END:VEVENT
END:VCALENDAR
