BEGIN:VCALENDAR
VERSION:2.0
PRODID:SchoolNow
CALSCALE:GREGORIAN
BEGIN:VEVENT
UID:ff6f6eb8-9294-11f0-b698-027c854efbf3
DTSTAMP:20251216T214513Z
SUMMARY:Volunteer Luncheon
URL;VALUE=URI:https://www.dist126.org/hazelgreen/about/calendar/8626385/vol
 unteer-luncheon
DTSTART;VALUE=DATE:20260507
DTEND;VALUE=DATE:20260508
END:VEVENT
END:VCALENDAR
