BEGIN:VCALENDAR
VERSION:2.0
PRODID:SchoolNow
CALSCALE:GREGORIAN
BEGIN:VEVENT
UID:ff6f6dd2-9294-11f0-9d9f-027c854efbf3
DTSTAMP:20251216T214513Z
SUMMARY:School Improvement Day
URL;VALUE=URI:https://www.dist126.org/hazelgreen/about/calendar/8626384/sch
 ool-improvement-day
DTSTART:20260501T133000Z
DTEND:20260501T164500Z
END:VEVENT
END:VCALENDAR
