BEGIN:VCALENDAR
VERSION:2.0
PRODID:SchoolNow
CALSCALE:GREGORIAN
BEGIN:VEVENT
UID:ff6f6d00-9294-11f0-88b4-027c854efbf3
DTSTAMP:20251216T214513Z
SUMMARY:Art Show & Chorus Concert
URL;VALUE=URI:https://www.dist126.org/hazelgreen/about/calendar/8626383/art
 -show-chorus-concert
DTSTART:20260423T230000Z
DTEND:20260424T000000Z
END:VEVENT
END:VCALENDAR
