BEGIN:VCALENDAR
VERSION:2.0
PRODID:SchoolNow
CALSCALE:GREGORIAN
BEGIN:VEVENT
UID:ff6f6c24-9294-11f0-af75-027c854efbf3
DTSTAMP:20251216T214513Z
SUMMARY:Earth Day Celebration
URL;VALUE=URI:https://www.dist126.org/hazelgreen/about/calendar/8626382/ear
 th-day-celebration
DTSTART;VALUE=DATE:20260422
DTEND;VALUE=DATE:20260423
END:VEVENT
END:VCALENDAR
