BEGIN:VCALENDAR
VERSION:2.0
PRODID:SchoolNow
CALSCALE:GREGORIAN
BEGIN:VEVENT
UID:ff6f6b48-9294-11f0-8ea4-027c854efbf3
DTSTAMP:20251216T214513Z
SUMMARY:3rd-6th Grade Music Assembly
URL;VALUE=URI:https://www.dist126.org/hazelgreen/about/calendar/8626381/3rd
 -6th-grade-music-assembly
DTSTART:20260421T180000Z
DTEND:20260421T190000Z
END:VEVENT
END:VCALENDAR
