BEGIN:VCALENDAR
VERSION:2.0
PRODID:SchoolNow
CALSCALE:GREGORIAN
BEGIN:VEVENT
UID:ff6f699a-9294-11f0-9865-027c854efbf3
DTSTAMP:20251216T214513Z
SUMMARY:Spring Pictures
URL;VALUE=URI:https://www.dist126.org/hazelgreen/about/calendar/8626379/spr
 ing-pictures
DTSTART;VALUE=DATE:20260409
DTEND;VALUE=DATE:20260410
END:VEVENT
END:VCALENDAR
