BEGIN:VCALENDAR
VERSION:2.0
PRODID:SchoolNow
CALSCALE:GREGORIAN
BEGIN:VEVENT
UID:ff6f68be-9294-11f0-93c6-027c854efbf3
DTSTAMP:20251216T214513Z
SUMMARY:Battle of the Books
URL;VALUE=URI:https://www.dist126.org/hazelgreen/about/calendar/8626378/bat
 tle-of-the-books
DTSTART;VALUE=DATE:20260409
DTEND;VALUE=DATE:20260410
END:VEVENT
END:VCALENDAR
