BEGIN:VCALENDAR
VERSION:2.0
PRODID:SchoolNow
CALSCALE:GREGORIAN
BEGIN:VEVENT
UID:ff6f67e2-9294-11f0-b4ec-027c854efbf3
DTSTAMP:20251216T214513Z
SUMMARY:Easter
URL;VALUE=URI:https://www.dist126.org/hazelgreen/about/calendar/8626377/eas
 ter
DTSTART;VALUE=DATE:20260405
DTEND;VALUE=DATE:20260406
END:VEVENT
END:VCALENDAR
