BEGIN:VCALENDAR
VERSION:2.0
PRODID:SchoolNow
CALSCALE:GREGORIAN
BEGIN:VEVENT
UID:ff6f662a-9294-11f0-aa82-027c854efbf3
DTSTAMP:20251216T214513Z
SUMMARY:No School Eid al-Fitr
URL;VALUE=URI:https://www.dist126.org/hazelgreen/about/calendar/8626375/no-
 school-eid-al-fitr
DTSTART;VALUE=DATE:20260320
DTEND;VALUE=DATE:20260321
END:VEVENT
END:VCALENDAR
