BEGIN:VCALENDAR
VERSION:2.0
PRODID:SchoolNow
CALSCALE:GREGORIAN
BEGIN:VEVENT
UID:ff6f654e-9294-11f0-a7b9-027c854efbf3
DTSTAMP:20251216T214513Z
SUMMARY:Talent Show Performance 9:30am & 5pm
URL;VALUE=URI:https://www.dist126.org/hazelgreen/about/calendar/8626374/tal
 ent-show-performance-9-30am-5pm
DTSTART:20260319T143000Z
DTEND:20260319T153000Z
END:VEVENT
END:VCALENDAR
