BEGIN:VCALENDAR
VERSION:2.0
PRODID:SchoolNow
CALSCALE:GREGORIAN
BEGIN:VEVENT
UID:ff6f6472-9294-11f0-a559-027c854efbf3
DTSTAMP:20251216T214513Z
SUMMARY:Talent Show Rehearsal
URL;VALUE=URI:https://www.dist126.org/hazelgreen/about/calendar/8626373/tal
 ent-show-rehearsal
DTSTART:20260317T200000Z
DTEND:20260317T223000Z
END:VEVENT
END:VCALENDAR
