BEGIN:VCALENDAR
VERSION:2.0
PRODID:SchoolNow
CALSCALE:GREGORIAN
BEGIN:VEVENT
UID:ff6f638c-9294-11f0-881c-027c854efbf3
DTSTAMP:20251216T214513Z
SUMMARY:Spring Ahead!
URL;VALUE=URI:https://www.dist126.org/hazelgreen/about/calendar/8626372/spr
 ing-ahead
DTSTART;VALUE=DATE:20260308
DTEND;VALUE=DATE:20260309
END:VEVENT
END:VCALENDAR
