BEGIN:VCALENDAR
VERSION:2.0
PRODID:SchoolNow
CALSCALE:GREGORIAN
BEGIN:VEVENT
UID:ff6f62b0-9294-11f0-893e-027c854efbf3
DTSTAMP:20251216T214513Z
SUMMARY:No School Casimir Pulaski Day
URL;VALUE=URI:https://www.dist126.org/hazelgreen/about/calendar/8626371/no-
 school-casimir-pulaski-day
DTSTART;VALUE=DATE:20260302
DTEND;VALUE=DATE:20260303
END:VEVENT
END:VCALENDAR
