BEGIN:VCALENDAR
VERSION:2.0
PRODID:SchoolNow
CALSCALE:GREGORIAN
BEGIN:VEVENT
UID:ff6f61ca-9294-11f0-81f4-027c854efbf3
DTSTAMP:20251216T214513Z
SUMMARY:End of 2nd Trimester
URL;VALUE=URI:https://www.dist126.org/hazelgreen/about/calendar/8626370/end
 -of-2nd-trimester
DTSTART;VALUE=DATE:20260220
DTEND;VALUE=DATE:20260221
END:VEVENT
END:VCALENDAR
