BEGIN:VCALENDAR
VERSION:2.0
PRODID:SchoolNow
CALSCALE:GREGORIAN
BEGIN:VEVENT
UID:ff6f60ee-9294-11f0-8b39-027c854efbf3
DTSTAMP:20251216T214513Z
SUMMARY:District 126 Winter Concert @ PJH
URL;VALUE=URI:https://www.dist126.org/hazelgreen/about/calendar/8626369/dis
 trict-126-winter-concert-pjh
DTSTART:20260220T000000Z
DTEND:20260220T010000Z
END:VEVENT
END:VCALENDAR
