BEGIN:VCALENDAR
VERSION:2.0
PRODID:SchoolNow
CALSCALE:GREGORIAN
BEGIN:VEVENT
UID:ff6f6008-9294-11f0-a2d5-027c854efbf3
DTSTAMP:20251216T214513Z
SUMMARY:Ramadan Begins
URL;VALUE=URI:https://www.dist126.org/hazelgreen/about/calendar/8626368/ram
 adan-begins
DTSTART;VALUE=DATE:20260217
DTEND;VALUE=DATE:20260218
END:VEVENT
END:VCALENDAR
