BEGIN:VCALENDAR
VERSION:2.0
PRODID:SchoolNow
CALSCALE:GREGORIAN
BEGIN:VEVENT
UID:ff6f5f22-9294-11f0-80ff-027c854efbf3
DTSTAMP:20251216T214513Z
SUMMARY:No School President's Day
URL;VALUE=URI:https://www.dist126.org/hazelgreen/about/calendar/8626367/no-
 school-presidents-day
DTSTART;VALUE=DATE:20260216
DTEND;VALUE=DATE:20260217
END:VEVENT
END:VCALENDAR
