BEGIN:VCALENDAR
VERSION:2.0
PRODID:SchoolNow
CALSCALE:GREGORIAN
BEGIN:VEVENT
UID:ff6f5d56-9294-11f0-9ef7-027c854efbf3
DTSTAMP:20251216T214513Z
SUMMARY:PFO Dance / Smencils Sale Ends
URL;VALUE=URI:https://www.dist126.org/hazelgreen/about/calendar/8626365/pfo
 -dance-smencils-sale-ends
DTSTART;VALUE=DATE:20260206
DTEND;VALUE=DATE:20260207
END:VEVENT
END:VCALENDAR
