BEGIN:VCALENDAR
VERSION:2.0
PRODID:SchoolNow
CALSCALE:GREGORIAN
BEGIN:VEVENT
UID:ff6f5b6c-9294-11f0-89c4-027c854efbf3
DTSTAMP:20251216T214513Z
SUMMARY:The Great Kindness Challenge
URL;VALUE=URI:https://www.dist126.org/hazelgreen/about/calendar/8626363/the
 -great-kindness-challenge
DTSTART;VALUE=DATE:20260126
DTEND;VALUE=DATE:20260127
END:VEVENT
END:VCALENDAR
