BEGIN:VCALENDAR
VERSION:2.0
PRODID:SchoolNow
CALSCALE:GREGORIAN
BEGIN:VEVENT
UID:ff6f5a68-9294-11f0-95bd-027c854efbf3
DTSTAMP:20251216T214513Z
SUMMARY:Family Reading Night
URL;VALUE=URI:https://www.dist126.org/hazelgreen/about/calendar/8626362/fam
 ily-reading-night
DTSTART:20260122T233000Z
DTEND:20260123T003000Z
END:VEVENT
END:VCALENDAR
