BEGIN:VCALENDAR
VERSION:2.0
PRODID:SchoolNow
CALSCALE:GREGORIAN
BEGIN:VEVENT
UID:ff6f5946-9294-11f0-9b93-027c854efbf3
DTSTAMP:20251216T214513Z
SUMMARY:No School - Martin Luther King Day
URL;VALUE=URI:https://www.dist126.org/hazelgreen/about/calendar/8626361/no-
 school-martin-luther-king-day
DTSTART;VALUE=DATE:20260119
DTEND;VALUE=DATE:20260120
END:VEVENT
END:VCALENDAR
