BEGIN:VCALENDAR
VERSION:2.0
PRODID:SchoolNow
CALSCALE:GREGORIAN
BEGIN:VEVENT
UID:ff6f57b6-9294-11f0-aa67-027c854efbf3
DTSTAMP:20251216T214513Z
SUMMARY:School Improvement Day
URL;VALUE=URI:https://www.dist126.org/hazelgreen/about/calendar/8626360/sch
 ool-improvement-day
DTSTART:20260114T143000Z
DTEND:20260114T174500Z
END:VEVENT
END:VCALENDAR
