BEGIN:VCALENDAR
VERSION:2.0
PRODID:SchoolNow
CALSCALE:GREGORIAN
BEGIN:VEVENT
UID:ff6f357e-9294-11f0-9fcf-027c854efbf3
DTSTAMP:20251216T214513Z
SUMMARY:Winter Break
URL;VALUE=URI:https://www.dist126.org/hazelgreen/about/calendar/8626359/win
 ter-break
DTSTART;VALUE=DATE:20251222
DTEND;VALUE=DATE:20260103
END:VEVENT
END:VCALENDAR
