BEGIN:VCALENDAR
VERSION:2.0
PRODID:SchoolNow
CALSCALE:GREGORIAN
BEGIN:VEVENT
UID:0a5fda28-91c9-11f0-857b-0a58a9feac02
DTSTAMP:20251216T214513Z
SUMMARY:Drama Club Performances
URL;VALUE=URI:https://www.dist126.org/hazelgreen/about/calendar/8622147/dra
 ma-club-performances
DTSTART:20251211T180000Z
DTEND:20251211T200000Z
END:VEVENT
END:VCALENDAR
