BEGIN:VCALENDAR
VERSION:2.0
PRODID:SchoolNow
CALSCALE:GREGORIAN
BEGIN:VEVENT
UID:0a5fb8a4-91c9-11f0-ba56-0a58a9feac02
DTSTAMP:20251216T214513Z
SUMMARY:SIP Day- Early Dismissal (AM Schedule)
URL;VALUE=URI:https://www.dist126.org/hazelgreen/about/calendar/8622146/sip
 -day-early-dismissal-am-schedule
DTSTART;VALUE=DATE:20250924
DTEND;VALUE=DATE:20250925
END:VEVENT
END:VCALENDAR
