BEGIN:VCALENDAR
VERSION:2.0
PRODID:SchoolNow
CALSCALE:GREGORIAN
BEGIN:VEVENT
UID:3189771a-8f32-11f0-bd41-0a58a9feac02
DTSTAMP:20251216T214513Z
SUMMARY:RS team meet
URL;VALUE=URI:https://www.dist126.org/hazelgreen/about/calendar/8609003/rs-
 team-meet
DTSTART:20250917T123000Z
DTEND:20250917T131500Z
END:VEVENT
END:VCALENDAR
